BEGIN:VCALENDAR
VERSION:2.0
PRODID:-//pretix//ConnectEvents.io//
BEGIN:VTIMEZONE
TZID:US/Central
BEGIN:STANDARD
DTSTART:20001029T020000
RRULE:FREQ=YEARLY;BYDAY=-1SU;BYMONTH=10;UNTIL=20061029T070000Z
TZNAME:CST
TZOFFSETFROM:-0500
TZOFFSETTO:-0600
END:STANDARD
BEGIN:STANDARD
DTSTART:20071104T020000
RRULE:FREQ=YEARLY;BYDAY=1SU;BYMONTH=11
TZNAME:CST
TZOFFSETFROM:-0500
TZOFFSETTO:-0600
END:STANDARD
BEGIN:DAYLIGHT
DTSTART:20000402T020000
RRULE:FREQ=YEARLY;BYDAY=1SU;BYMONTH=4;UNTIL=20060402T080000Z
TZNAME:CDT
TZOFFSETFROM:-0600
TZOFFSETTO:-0500
END:DAYLIGHT
BEGIN:DAYLIGHT
DTSTART:20070311T020000
RRULE:FREQ=YEARLY;BYDAY=2SU;BYMONTH=3
TZNAME:CDT
TZOFFSETFROM:-0600
TZOFFSETTO:-0500
END:DAYLIGHT
END:VTIMEZONE
BEGIN:VEVENT
UID:pretix-ConnectEvents-jconf2022-0@reg.connectevents.io
DTSTART;TZID=US/Central:20220926T080000
DTEND;TZID=US/Central:20220928T180000
DESCRIPTION:Tickets: https://reg.connectevents.io/ConnectEvents/jconf2022/\
 nOrganizer: ConnectEvents
DTSTAMP:20260424T135943Z
LOCATION:Isadore and Sadie Dorin Forum\, 725 West Roosevelt Rd\, MC 126\,\,
  Chicago\, Illinois 60608
SUMMARY:JCONF 2022
END:VEVENT
END:VCALENDAR
